BEGIN:VCALENDAR
VERSION:2.0
PRODID:-//ROotSE: alla scoperta delle Radici Rositane - ECPv6.9.0//NONSGML v1.0//EN
CALSCALE:GREGORIAN
METHOD:PUBLISH
X-WR-CALNAME:ROotSE: alla scoperta delle Radici Rositane
X-ORIGINAL-URL:https://rootse.it
X-WR-CALDESC:Eventi per ROotSE: alla scoperta delle Radici Rositane
REFRESH-INTERVAL;VALUE=DURATION:PT1H
X-Robots-Tag:noindex
X-PUBLISHED-TTL:PT1H
BEGIN:VTIMEZONE
TZID:UTC
BEGIN:STANDARD
TZOFFSETFROM:+0000
TZOFFSETTO:+0000
TZNAME:UTC
DTSTART:20240101T000000
END:STANDARD
END:VTIMEZONE
BEGIN:VEVENT
DTSTART;TZID=UTC:20240808T203000
DTEND;TZID=UTC:20240808T233000
DTSTAMP:20260419T210522
CREATED:20240729T142844Z
LAST-MODIFIED:20240729T142844Z
UID:515-1723149000-1723159800@rootse.it
SUMMARY:Un Castello di Musica
DESCRIPTION:
URL:https://rootse.it/event/un-castello-di-musica/
LOCATION:Castello\, Via Castello 1\, Rose\, CS\, 87040\, Italia
CATEGORIES:Concerto
END:VEVENT
END:VCALENDAR