BEGIN:VCALENDAR
VERSION:2.0
PRODID:-//ROotSE: alla scoperta delle Radici Rositane - ECPv6.9.0//NONSGML v1.0//EN
CALSCALE:GREGORIAN
METHOD:PUBLISH
X-ORIGINAL-URL:https://rootse.it
X-WR-CALDESC:Eventi per ROotSE: alla scoperta delle Radici Rositane
REFRESH-INTERVAL;VALUE=DURATION:PT1H
X-Robots-Tag:noindex
X-PUBLISHED-TTL:PT1H
BEGIN:VTIMEZONE
TZID:UTC
BEGIN:STANDARD
TZOFFSETFROM:+0000
TZOFFSETTO:+0000
TZNAME:UTC
DTSTART:20240101T000000
END:STANDARD
END:VTIMEZONE
BEGIN:VEVENT
DTSTART;TZID=UTC:20240714T000000
DTEND;TZID=UTC:20240929T233000
DTSTAMP:20260421T091103
CREATED:20240807T073937Z
LAST-MODIFIED:20240807T074458Z
UID:546-1720915200-1727652600@rootse.it
SUMMARY:Estate Rositana - Calendario Completo
DESCRIPTION:
URL:https://rootse.it/event/estate-rositana-calendario-completo/
LOCATION:Centro Storico\, Via Italia 29\, Rose\, CS\, 87040\, Italia
CATEGORIES:Evento Culturale
END:VEVENT
BEGIN:VEVENT
DTSTART;TZID=UTC:20240803T123000
DTEND;TZID=UTC:20240804T150000
DTSTAMP:20260421T091103
CREATED:20240724T145130Z
LAST-MODIFIED:20240729T104828Z
UID:479-1722688200-1722783600@rootse.it
SUMMARY:Torneo Dama - Open  Città di Rose
DESCRIPTION:
URL:https://rootse.it/event/torneo-dama-open-citta-di-rose/
LOCATION:Sala Consiliare\, Via Castello 1\, Rose\, CS\, 87040\, Italia
CATEGORIES:Torneo
END:VEVENT
BEGIN:VEVENT
DTSTART;TZID=UTC:20240803T180000
DTEND;TZID=UTC:20240803T210000
DTSTAMP:20260421T091103
CREATED:20240729T105217Z
LAST-MODIFIED:20240729T105217Z
UID:499-1722708000-1722718800@rootse.it
SUMMARY:Benjamin Fondane e la voce dell'abisso
DESCRIPTION:
URL:https://rootse.it/event/benjamin-fondane-e-la-voce-dellabisso/
LOCATION:Castello\, Via Castello 1\, Rose\, CS\, 87040\, Italia
CATEGORIES:Evento Culturale
END:VEVENT
END:VCALENDAR